BEGIN:VCALENDAR
VERSION:2.0
PRODID:-//Lavender Booking - ECPv6.3.3.1//NONSGML v1.0//EN
CALSCALE:GREGORIAN
METHOD:PUBLISH
X-WR-CALNAME:Lavender Booking
X-ORIGINAL-URL:https://lavenderhotels.co.uk
X-WR-CALDESC:Events for Lavender Booking
REFRESH-INTERVAL;VALUE=DURATION:PT1H
X-Robots-Tag:noindex
X-PUBLISHED-TTL:PT1H
BEGIN:VTIMEZONE
TZID:Europe/London
BEGIN:DAYLIGHT
TZOFFSETFROM:+0000
TZOFFSETTO:+0100
TZNAME:BST
DTSTART:20210328T010000
END:DAYLIGHT
BEGIN:STANDARD
TZOFFSETFROM:+0100
TZOFFSETTO:+0000
TZNAME:GMT
DTSTART:20211031T010000
END:STANDARD
BEGIN:DAYLIGHT
TZOFFSETFROM:+0000
TZOFFSETTO:+0100
TZNAME:BST
DTSTART:20220327T010000
END:DAYLIGHT
BEGIN:STANDARD
TZOFFSETFROM:+0100
TZOFFSETTO:+0000
TZNAME:GMT
DTSTART:20221030T010000
END:STANDARD
END:VTIMEZONE
BEGIN:VEVENT
DTSTART;TZID=Europe/London:20221125T190000
DTEND;TZID=Europe/London:20221126T010000
DTSTAMP:20260425T170646
CREATED:20220719T125834Z
LAST-MODIFIED:20221026T110030Z
UID:5113-1669402800-1669424400@lavenderhotels.co.uk
SUMMARY:The Oaks "Jingle the Night Away" Party Night
DESCRIPTION:Lets get this party started. \nCome to our venue and enjoy an amazing night with great food\, great friends and all the xmas hits for you to dance the night away to. \nArrive 7\, Dinner 7.45\, Dancing until 1am \nTo view the brochure and menus click here Oaks Christmas 2022 \nWhy not stay the night\, click on this link for a special party night rate\,  Click here
URL:https://lavenderhotels.co.uk/seasonal-event/jingle-the-night-away-party-night-12/
LOCATION:The Oaks Hotel\, The Oaks Hotel\, Colne Road\,\, Burnley\, Lancashire\, BB10 2LF\, United Kingdom
CATEGORIES:Christmas & New Year,Party Nights
ATTACH;FMTTYPE=image/png:https://lavenderhotels.co.uk/wp-content/uploads/2022/07/Banner-Jingle-the-Night-Away-Party.png
END:VEVENT
BEGIN:VEVENT
DTSTART;TZID=Europe/London:20221029T190000
DTEND;TZID=Europe/London:20221030T000000
DTSTAMP:20260425T170646
CREATED:20220415T125742Z
LAST-MODIFIED:20220914T183934Z
UID:4822-1667070000-1667088000@lavenderhotels.co.uk
SUMMARY:The Oaks Adults Halloween Party
DESCRIPTION:Its close to midnight\, something evil’s lurking in the dark\, under the moonlight……. \nCome to have a THRILLER of a night. \nGet dressed up in your best fancy dress with prizes for the best male and female have a dance filled night whilst we perfect our Monster Mash. \n3 course meal with dancing until late \n7pm Arrival / 7:45pm Meal \nWhy not stay the night\, click on this link and book a special night rate for guest attending a party night Click here
URL:https://lavenderhotels.co.uk/seasonal-event/adults-halloween-party-2/
LOCATION:The Oaks Hotel\, The Oaks Hotel\, Colne Road\,\, Burnley\, Lancashire\, BB10 2LF\, United Kingdom
CATEGORIES:Party Nights
END:VEVENT
BEGIN:VEVENT
DTSTART;TZID=Europe/London:20220923T190000
DTEND;TZID=Europe/London:20220924T000000
DTSTAMP:20260425T170646
CREATED:20220415T125416Z
LAST-MODIFIED:20220914T183802Z
UID:4819-1663959600-1663977600@lavenderhotels.co.uk
SUMMARY:The Oaks Bonkers Bingo Night
DESCRIPTION:Bonkers Bingo is coming to The Oaks! \nExpect an evening of great food\, music\, dancing\, banter and of course Bingo madness! \nIncludes pie and peas or a vegetarian alternative \n7pm Arrival / 7:45pm Meal \nWhy not stay the night\, click on this link and book a special night rate for guest attending a party night Click here
URL:https://lavenderhotels.co.uk/seasonal-event/bonkers-bingo-2/
LOCATION:The Oaks Hotel\, The Oaks Hotel\, Colne Road\,\, Burnley\, Lancashire\, BB10 2LF\, United Kingdom
CATEGORIES:Party Nights
END:VEVENT
BEGIN:VEVENT
DTSTART;TZID=Europe/London:20220813T190000
DTEND;TZID=Europe/London:20220814T000000
DTSTAMP:20260425T170646
CREATED:20220415T125013Z
LAST-MODIFIED:20220803T140121Z
UID:4816-1660417200-1660435200@lavenderhotels.co.uk
SUMMARY:The Oaks-Now That's What We Call Music 80's 90's 00's
DESCRIPTION:Take a nostalgic trip back and dance the night away to sounds from the 80’s\, 90’s & 00’s with our resident DJ! \nIncludes a 4 course meal and dancing until late \n7pm Arrival / 7:45pm Meal \nWhy not stay the night\, click on this link and book a special night rate for guest attending a party night Click here
URL:https://lavenderhotels.co.uk/seasonal-event/now-thats-what-we-call-music-80s-90s-00s/
LOCATION:The Oaks Hotel\, The Oaks Hotel\, Colne Road\,\, Burnley\, Lancashire\, BB10 2LF\, United Kingdom
CATEGORIES:Party Nights
END:VEVENT
BEGIN:VEVENT
DTSTART;TZID=Europe/London:20220722T190000
DTEND;TZID=Europe/London:20220723T000000
DTSTAMP:20260425T170646
CREATED:20220415T124558Z
LAST-MODIFIED:20220712T141750Z
UID:4813-1658516400-1658534400@lavenderhotels.co.uk
SUMMARY:The Oaks - Tribute Night - Abba Forever
DESCRIPTION:Mamma Mia here we go again… we are bringing one of the UK’s top ABBA tribute bands to the North West! \nJoin four piece band\, ABBA Forever\, as they play all you favourites. \n3 couse meal with dancing til late \n7pm Arrival / 7:45pm Meal \nWhy not stay the night\, click on this link and book a special night rate for guest attending a party night Click here
URL:https://lavenderhotels.co.uk/seasonal-event/tribute-night-abba-forever-3/
LOCATION:The Oaks Hotel\, The Oaks Hotel\, Colne Road\,\, Burnley\, Lancashire\, BB10 2LF\, United Kingdom
CATEGORIES:Party Nights,Star studded Cabaret Night
END:VEVENT
BEGIN:VEVENT
DTSTART;TZID=Europe/London:20220625T190000
DTEND;TZID=Europe/London:20220626T000000
DTSTAMP:20260425T170646
CREATED:20220415T123458Z
LAST-MODIFIED:20220527T115313Z
UID:4810-1656183600-1656201600@lavenderhotels.co.uk
SUMMARY:The Oaks - Absolute Diva's 90's vs 00's
DESCRIPTION:Join fabulous live vocal act ‘Absolute Divas’ as they cover the greatest pop hits of the 90’s and 00’s. \nDance the nights away to your favourite acts. \nIncludes a delicious 3 course meal! \n7pm Arrival / 7:45pm Meal
URL:https://lavenderhotels.co.uk/seasonal-event/absolute-divas-90s-vs-00s-2/
LOCATION:The Oaks Hotel\, The Oaks Hotel\, Colne Road\,\, Burnley\, Lancashire\, BB10 2LF\, United Kingdom
CATEGORIES:Star studded Cabaret Night
END:VEVENT
BEGIN:VEVENT
DTSTART;TZID=Europe/London:20211231T163000
DTEND;TZID=Europe/London:20211231T210000
DTSTAMP:20260425T170646
CREATED:20211001T210559Z
LAST-MODIFIED:20220801T125657Z
UID:1804-1640968200-1640984400@lavenderhotels.co.uk
SUMMARY:New Years Eve FAMILY Party – THE OAKS HOTEL
DESCRIPTION:Its fun for all the family at our family New Years Eve party.  On arrival you’ll be greeted with a glass of fizz for the adults and a special kiddie cocktail followed by an amazing 3 course dinner. \nAs you relax and enjoy our freshly brewed coffee and mince pies our superb family entertainer will amuse the children.  Then dance your way into the early New Year with our resident DJ. \n  \n4:30pm Champagne Cocktail Reception | 5pm Dinner | Dancing until 9pm | 9pm Carriages \nYou can view more details\, including the menu in the brochure below:
URL:https://lavenderhotels.co.uk/seasonal-event/new-years-eve-family-party-the-oaks-hotel/
LOCATION:The Oaks Hotel\, The Oaks Hotel\, Colne Road\,\, Burnley\, Lancashire\, BB10 2LF\, United Kingdom
CATEGORIES:New Year
ATTACH;FMTTYPE=image/jpeg:https://lavenderhotels.co.uk/wp-content/uploads/2021/09/New-Year-Eve-Family-Party.jpg
END:VEVENT
BEGIN:VEVENT
DTSTART;TZID=Europe/London:20211231T080000
DTEND;TZID=Europe/London:20220101T020000
DTSTAMP:20260425T170646
CREATED:20211001T210906Z
LAST-MODIFIED:20220801T125828Z
UID:1809-1640937600-1641002400@lavenderhotels.co.uk
SUMMARY:New Years Eve Gala Celebration - THE OAKS HOTEL
DESCRIPTION:Make it an unforgettable New Years Eve celebration at the Oaks Hotel. \nEnjoy an evening of sumptuous food\, great music and dance the night away. \nGlass of Prosecco and canapes on arrival\, followed by a delightful 5 course meal. \nA night hosted by our resident DJ \nArrive 7pm | Dinner 7.30pm | Dancing until 2am \nYou can view more details\, including the menu in the brochure below:
URL:https://lavenderhotels.co.uk/seasonal-event/new-years-eve-gala-celebration-the-oaks-hotel/
LOCATION:The Oaks Hotel\, The Oaks Hotel\, Colne Road\,\, Burnley\, Lancashire\, BB10 2LF\, United Kingdom
CATEGORIES:New Year
ATTACH;FMTTYPE=image/jpeg:https://lavenderhotels.co.uk/wp-content/uploads/2021/09/New-Years-Eve-Gala-Celebration.jpg
END:VEVENT
BEGIN:VEVENT
DTSTART;TZID=Europe/London:20211226T120000
DTEND;TZID=Europe/London:20211226T160000
DTSTAMP:20260425T170646
CREATED:20211001T205920Z
LAST-MODIFIED:20211018T121440Z
UID:1799-1640520000-1640534400@lavenderhotels.co.uk
SUMMARY:Boxing Day Carvery Lunch - THE OAKS HOTEL
DESCRIPTION:Why not let us help you relax after all the stress of Christmas Day and enjoy a sumptuous carvery lunch served in our beautiful and elegant surroundings. \nThen enjoy coffee and mince pies whilst we do all the work. \nYou can view more details\, including the menu in the brochure below:
URL:https://lavenderhotels.co.uk/seasonal-event/boxing-day-carvery-lunch-the-oaks-hotel/
LOCATION:The Oaks Hotel\, The Oaks Hotel\, Colne Road\,\, Burnley\, Lancashire\, BB10 2LF\, United Kingdom
CATEGORIES:Christmas Day and Boxing Day
ATTACH;FMTTYPE=image/jpeg:https://lavenderhotels.co.uk/wp-content/uploads/2021/09/Boxing-Day-Carvery-Lunch.jpg
END:VEVENT
BEGIN:VEVENT
DTSTART;TZID=Europe/London:20211225T130000
DTEND;TZID=Europe/London:20211225T170000
DTSTAMP:20260425T170646
CREATED:20211001T204533Z
LAST-MODIFIED:20211018T121511Z
UID:1794-1640437200-1640451600@lavenderhotels.co.uk
SUMMARY:Christmas Day Luncheon - THE OAKS HOTEL
DESCRIPTION:Take the stress out of Christmas Day this year and focus on what is important; spending time with the family. \nEnjoy a delicious 3 course festive meal with all the trimmings. \nReservations for 1 pm \nYou can view more details\, including the menu in the brochure below:
URL:https://lavenderhotels.co.uk/seasonal-event/christmas-day-luncheon-the-oaks-hotel/
LOCATION:The Oaks Hotel\, The Oaks Hotel\, Colne Road\,\, Burnley\, Lancashire\, BB10 2LF\, United Kingdom
CATEGORIES:Christmas Day and Boxing Day
ATTACH;FMTTYPE=image/jpeg:https://lavenderhotels.co.uk/wp-content/uploads/2021/09/Christmas-Day-Lunch.jpg
END:VEVENT
BEGIN:VEVENT
DTSTART;TZID=Europe/London:20211225T120000
DTEND;TZID=Europe/London:20211225T160000
DTSTAMP:20260425T170646
CREATED:20211001T204114Z
LAST-MODIFIED:20211018T121604Z
UID:1788-1640433600-1640448000@lavenderhotels.co.uk
SUMMARY:Christmas Day Gourmet Lunch - THE OAKS HOTEL
DESCRIPTION:If you want to make Christmas Day extra special\, allow our experienced team to pamper you with a feast of festive food in the luxurious surroundings of our hotel. \nOur elegant dining room provides the perfect atmosphere on this special day. A fabulous Christmas tree\, festive classics playing in the background\, with a view of our beautifully manicured grounds through the window\, this Christmas is going to be one to remember. \nThe experience begins with a warm welcome and a glass of champagne in the lounge bar. Then take your seats in anticipation for a sumptuous 4 course meal with all the trimmings\, followed by coffee and mince pies. \nReservations between 12 noon and 4pm \nYou can view more details\, including the menu in the brochure below:
URL:https://lavenderhotels.co.uk/seasonal-event/christmas-day-gourmet-lunch-the-oaks-hotel/
LOCATION:The Oaks Hotel\, The Oaks Hotel\, Colne Road\,\, Burnley\, Lancashire\, BB10 2LF\, United Kingdom
CATEGORIES:Christmas Day and Boxing Day
ATTACH;FMTTYPE=image/jpeg:https://lavenderhotels.co.uk/wp-content/uploads/2021/09/Christmas-Day-Gourmet-Lunch.jpg
END:VEVENT
BEGIN:VEVENT
DTSTART;TZID=Europe/London:20211218T193000
DTEND;TZID=Europe/London:20211219T010000
DTSTAMP:20260425T170646
CREATED:20211001T202133Z
LAST-MODIFIED:20211109T163846Z
UID:1771-1639855800-1639875600@lavenderhotels.co.uk
SUMMARY:Festive Fever Party Night with All Inclusive Option - THE OAKS HOTEL
DESCRIPTION:Celebrate Christmas in style this year with delicious 2 course meal and great entertainment from our resident DJ who will play all your favourite Christmas classics. \nArrival 7.30pm | Dinner 8 pm | Dancing until 1am \nYou also have the added option to go All Inclusive for your drinks where between 8pm and 12 midnight drinks are included. \nUnlimited drinks are 8pm to midnight. Bucks fizz and bottled beer on arrival at 7.30pm\, Wine\, draught beers\, spirits and soft drinks served at bar 8pm – midnight. 1 glass per person per order. All drinks purchased after midnight are payable at the bar. \nYou can view more details\, including the menu in the brochure below:
URL:https://lavenderhotels.co.uk/seasonal-event/festive-fever-party-night-with-all-inclusive-option-the-oaks-hotel-8/
LOCATION:The Oaks Hotel\, The Oaks Hotel\, Colne Road\,\, Burnley\, Lancashire\, BB10 2LF\, United Kingdom
CATEGORIES:Party Nights
ATTACH;FMTTYPE=image/jpeg:https://lavenderhotels.co.uk/wp-content/uploads/2021/09/All-Inclusive-Party-Nights.jpg
END:VEVENT
BEGIN:VEVENT
DTSTART;TZID=Europe/London:20211217T193000
DTEND;TZID=Europe/London:20211218T010000
DTSTAMP:20260425T170646
CREATED:20211001T201827Z
LAST-MODIFIED:20211018T122112Z
UID:1767-1639769400-1639789200@lavenderhotels.co.uk
SUMMARY:Festive Fever Party Night with All Inclusive Option - THE OAKS HOTEL
DESCRIPTION:Celebrate Christmas in style this year with delicious 2 course meal and great entertainment from our resident DJ who will play all your favourite Christmas classics. \nArrival 7.30pm | Dinner 8 pm | Dancing until 1am \nYou also have the added option to go All Inclusive for your drinks where between 8pm and 12 midnight drinks are included. \nUnlimited drinks are 8pm to midnight. Bucks fizz and bottled beer on arrival at 7.30pm\, Wine\, draught beers\, spirits and soft drinks served at bar 8pm – midnight. 1 glass per person per order. All drinks purchased after midnight are payable at the bar. \nYou can view more details\, including the menu in the brochure below:
URL:https://lavenderhotels.co.uk/seasonal-event/festive-fever-party-night-with-all-inclusive-option-the-oaks-hotel-7/
LOCATION:The Oaks Hotel\, The Oaks Hotel\, Colne Road\,\, Burnley\, Lancashire\, BB10 2LF\, United Kingdom
CATEGORIES:Party Nights
ATTACH;FMTTYPE=image/jpeg:https://lavenderhotels.co.uk/wp-content/uploads/2021/09/All-Inclusive-Party-Nights.jpg
END:VEVENT
BEGIN:VEVENT
DTSTART;TZID=Europe/London:20211216T120000
DTEND;TZID=Europe/London:20211216T150000
DTSTAMP:20260425T170646
CREATED:20211001T203130Z
LAST-MODIFIED:20211018T122126Z
UID:1783-1639656000-1639666800@lavenderhotels.co.uk
SUMMARY:Festive Lunch with Bingo and Quiz - THE OAKS HOTEL
DESCRIPTION:Its eyes down for a full house and then test your general knowledge! Enjoy a festive 2 course lunch followed by an afternoon of bingo and then quiz! \nArrive 12 noon | Lunch 12.30pm | Bingo and Quiz from 2pm \nYou can view more details\, including the menu in the brochure below:
URL:https://lavenderhotels.co.uk/seasonal-event/festive-lunch-with-bingo-and-quiz-the-oaks-hotel-2/
LOCATION:The Oaks Hotel\, The Oaks Hotel\, Colne Road\,\, Burnley\, Lancashire\, BB10 2LF\, United Kingdom
CATEGORIES:Festive Lunches
ATTACH;FMTTYPE=image/jpeg:https://lavenderhotels.co.uk/wp-content/uploads/2021/09/Festive-Lunch.jpg
END:VEVENT
BEGIN:VEVENT
DTSTART;TZID=Europe/London:20211212T120000
DTEND;TZID=Europe/London:20211212T143000
DTSTAMP:20260425T170646
CREATED:20211001T202630Z
LAST-MODIFIED:20211209T091116Z
UID:1775-1639310400-1639319400@lavenderhotels.co.uk
SUMMARY:Sunday Lunch with Santa - THE OAKS HOTEL
DESCRIPTION:It wouldn’t be Christmas without the kids meeting Father Christmas! Join us for a 3 course lunch and visit from Father Christmas. \nFree chocolate gift for every child. \nArrive 12 noon | Lunch 12.30pm \nYou can view more details\, including the menu in the brochure below:
URL:https://lavenderhotels.co.uk/seasonal-event/sunday-lunch-with-santa-the-oaks-hotel/
LOCATION:The Oaks Hotel\, The Oaks Hotel\, Colne Road\,\, Burnley\, Lancashire\, BB10 2LF\, United Kingdom
CATEGORIES:Family Events
ATTACH;FMTTYPE=image/jpeg:https://lavenderhotels.co.uk/wp-content/uploads/2021/09/Sunday-Lunch-with-Santa.jpg
END:VEVENT
BEGIN:VEVENT
DTSTART;TZID=Europe/London:20211211T193000
DTEND;TZID=Europe/London:20211212T010000
DTSTAMP:20260425T170646
CREATED:20211001T201301Z
LAST-MODIFIED:20211116T163640Z
UID:1763-1639251000-1639270800@lavenderhotels.co.uk
SUMMARY:Festive Fever Party Night with All Inclusive Option - THE OAKS HOTEL
DESCRIPTION:Celebrate Christmas in style this year with delicious 2 course meal and great entertainment from our resident DJ who will play all your favourite Christmas classics. \nArrival 7.30pm | Dinner 8 pm | Dancing until 1am \nYou also have the added option to go All Inclusive for your drinks where between 8pm and 12 midnight drinks are included. \nUnlimited drinks are 8pm to midnight. Bucks fizz and bottled beer on arrival at 7.30pm\, Wine\, draught beers\, spirits and soft drinks served at bar 8pm – midnight. 1 glass per person per order. All drinks purchased after midnight are payable at the bar. \nYou can view more details\, including the menu in the brochure below:
URL:https://lavenderhotels.co.uk/seasonal-event/festive-fever-party-night-with-all-inclusive-option-the-oaks-hotel-6/
LOCATION:The Oaks Hotel\, The Oaks Hotel\, Colne Road\,\, Burnley\, Lancashire\, BB10 2LF\, United Kingdom
CATEGORIES:Party Nights
ATTACH;FMTTYPE=image/jpeg:https://lavenderhotels.co.uk/wp-content/uploads/2021/09/All-Inclusive-Party-Nights.jpg
END:VEVENT
BEGIN:VEVENT
DTSTART;TZID=Europe/London:20211210T193000
DTEND;TZID=Europe/London:20211211T010000
DTSTAMP:20260425T170646
CREATED:20211001T200855Z
LAST-MODIFIED:20211018T122454Z
UID:1759-1639164600-1639184400@lavenderhotels.co.uk
SUMMARY:Festive Fever Party Night with All Inclusive Option - THE OAKS HOTEL
DESCRIPTION:Celebrate Christmas in style this year with delicious 2 course meal and great entertainment from our resident DJ who will play all your favourite Christmas classics. \nArrival 7.30pm | Dinner 8 pm | Dancing until 1am \nYou also have the added option to go All Inclusive for your drinks where between 8pm and 12 midnight drinks are included. \nUnlimited drinks are 8pm to midnight. Bucks fizz and bottled beer on arrival at 7.30pm\, Wine\, draught beers\, spirits and soft drinks served at bar 8pm – midnight. 1 glass per person per order. All drinks purchased after midnight are payable at the bar. \nYou can view more details\, including the menu in the brochure below:
URL:https://lavenderhotels.co.uk/seasonal-event/festive-fever-party-night-with-all-inclusive-option-the-oaks-hotel-5/
LOCATION:The Oaks Hotel\, The Oaks Hotel\, Colne Road\,\, Burnley\, Lancashire\, BB10 2LF\, United Kingdom
CATEGORIES:Party Nights
ATTACH;FMTTYPE=image/jpeg:https://lavenderhotels.co.uk/wp-content/uploads/2021/09/All-Inclusive-Party-Nights.jpg
END:VEVENT
BEGIN:VEVENT
DTSTART;TZID=Europe/London:20211209T120000
DTEND;TZID=Europe/London:20211209T150000
DTSTAMP:20260425T170646
CREATED:20211001T202910Z
LAST-MODIFIED:20211109T163714Z
UID:1780-1639051200-1639062000@lavenderhotels.co.uk
SUMMARY:Festive Lunch with Bingo and Quiz - THE OAKS HOTEL
DESCRIPTION:  \nIts eyes down for a full house and then test your general knowledge! Enjoy a festive 2 course lunch followed by an afternoon of bingo and then quiz! \nArrive 12 noon | Lunch 12.30pm | Bingo and Quiz from 2pm \nYou can view more details\, including the menu in the brochure below:
URL:https://lavenderhotels.co.uk/seasonal-event/festive-lunch-with-bingo-and-quiz-the-oaks-hotel/
LOCATION:The Oaks Hotel\, The Oaks Hotel\, Colne Road\,\, Burnley\, Lancashire\, BB10 2LF\, United Kingdom
CATEGORIES:Festive Lunches
ATTACH;FMTTYPE=image/jpeg:https://lavenderhotels.co.uk/wp-content/uploads/2021/09/Festive-Lunch.jpg
END:VEVENT
BEGIN:VEVENT
DTSTART;TZID=Europe/London:20211204T193000
DTEND;TZID=Europe/London:20211205T010000
DTSTAMP:20260425T170646
CREATED:20211001T153301Z
LAST-MODIFIED:20211122T175913Z
UID:1755-1638646200-1638666000@lavenderhotels.co.uk
SUMMARY:Festive Fever Party Night with All Inclusive Option - THE OAKS HOTEL
DESCRIPTION:Celebrate Christmas in style this year with delicious 2 course meal and great entertainment from our resident DJ who will play all your favourite Christmas classics. \nArrival 7.30pm | Dinner 8 pm | Dancing until 1am \nYou also have the added option to go All Inclusive for your drinks where between 8pm and 12 midnight drinks are included. \nUnlimited drinks are 8pm to midnight. Bucks fizz and bottled beer on arrival at 7.30pm\, Wine\, draught beers\, spirits and soft drinks served at bar 8pm – midnight. 1 glass per person per order. All drinks purchased after midnight are payable at the bar. \nYou can view more details\, including the menu in the brochure below:
URL:https://lavenderhotels.co.uk/seasonal-event/festive-fever-party-night-with-all-inclusive-option-the-oaks-hotel-4/
LOCATION:The Oaks Hotel\, The Oaks Hotel\, Colne Road\,\, Burnley\, Lancashire\, BB10 2LF\, United Kingdom
CATEGORIES:Party Nights
ATTACH;FMTTYPE=image/jpeg:https://lavenderhotels.co.uk/wp-content/uploads/2021/09/All-Inclusive-Party-Nights.jpg
END:VEVENT
BEGIN:VEVENT
DTSTART;TZID=Europe/London:20211203T193000
DTEND;TZID=Europe/London:20211204T010000
DTSTAMP:20260425T170646
CREATED:20211001T152845Z
LAST-MODIFIED:20211018T123148Z
UID:1750-1638559800-1638579600@lavenderhotels.co.uk
SUMMARY:Festive Fever Party Night with All Inclusive Option - THE OAKS HOTEL
DESCRIPTION:Celebrate Christmas in style this year with delicious 2 course meal and great entertainment from our resident DJ who will play all your favourite Christmas classics. \nArrival 7.30pm | Dinner 8 pm | Dancing until 1am \nYou also have the added option to go All Inclusive for your drinks where between 8pm and 12 midnight drinks are included. \nUnlimited drinks are 8pm to midnight. Bucks fizz and bottled beer on arrival at 7.30pm\, Wine\, draught beers\, spirits and soft drinks served at bar 8pm – midnight. 1 glass per person per order. All drinks purchased after midnight are payable at the bar. \nYou can view more details\, including the menu in the brochure below:
URL:https://lavenderhotels.co.uk/seasonal-event/festive-fever-party-night-with-all-inclusive-option-the-oaks-hotel-3/
LOCATION:The Oaks Hotel\, The Oaks Hotel\, Colne Road\,\, Burnley\, Lancashire\, BB10 2LF\, United Kingdom
CATEGORIES:Party Nights
ATTACH;FMTTYPE=image/jpeg:https://lavenderhotels.co.uk/wp-content/uploads/2021/09/All-Inclusive-Party-Nights.jpg
END:VEVENT
BEGIN:VEVENT
DTSTART;TZID=Europe/London:20211127T193000
DTEND;TZID=Europe/London:20211128T010000
DTSTAMP:20260425T170646
CREATED:20211001T151823Z
LAST-MODIFIED:20211018T123252Z
UID:1746-1638041400-1638061200@lavenderhotels.co.uk
SUMMARY:Festive Fever Party Night with All Inclusive Option - THE OAKS HOTEL
DESCRIPTION:Celebrate Christmas in style this year with delicious 2 course meal and great entertainment from our resident DJ who will play all your favourite Christmas classics. \nArrival 7.30pm | Dinner 8 pm | Dancing until 1am \nYou also have the added option to go All Inclusive for your drinks where between 8pm and 12 midnight drinks are included. \nUnlimited drinks are 8pm to midnight. Bucks fizz and bottled beer on arrival at 7.30pm\, Wine\, draught beers\, spirits and soft drinks served at bar 8pm – midnight. 1 glass per person per order. All drinks purchased after midnight are payable at the bar. \nYou can view more details\, including the menu in the brochure below:
URL:https://lavenderhotels.co.uk/seasonal-event/festive-fever-party-night-with-all-inclusive-option-the-oaks-hotel-2/
LOCATION:The Oaks Hotel\, The Oaks Hotel\, Colne Road\,\, Burnley\, Lancashire\, BB10 2LF\, United Kingdom
CATEGORIES:Party Nights
ATTACH;FMTTYPE=image/jpeg:https://lavenderhotels.co.uk/wp-content/uploads/2021/09/All-Inclusive-Party-Nights.jpg
END:VEVENT
BEGIN:VEVENT
DTSTART;TZID=Europe/London:20211126T193000
DTEND;TZID=Europe/London:20211127T010000
DTSTAMP:20260425T170646
CREATED:20211001T150640Z
LAST-MODIFIED:20211018T123339Z
UID:1740-1637955000-1637974800@lavenderhotels.co.uk
SUMMARY:Festive Fever Party Night with All Inclusive Option - THE OAKS HOTEL
DESCRIPTION:Celebrate Christmas in style this year with delicious 2 course meal and great entertainment from our resident DJ who will play all your favourite Christmas classics. \nArrival 7.30pm |  Dinner 8 pm |  Dancing until 1am \nYou also have the added option to go All Inclusive for your drinks where between 8pm and 12 midnight drinks are included. \nUnlimited drinks are 7.30pm to midnight.  Bucks fizz and bottled beer on arrival at 7.30pm\, Wine\, draught beers\, spirits and soft drinks served at bar 8pm – midnight.  1 glass per person per order.  All drinks purchased after midnight are payable at the bar. \nYou can view more details\, including the menu in the brochure below:
URL:https://lavenderhotels.co.uk/seasonal-event/festive-fever-party-night-with-all-inclusive-option-the-oaks-hotel/
LOCATION:The Oaks Hotel\, The Oaks Hotel\, Colne Road\,\, Burnley\, Lancashire\, BB10 2LF\, United Kingdom
CATEGORIES:Party Nights
ATTACH;FMTTYPE=image/jpeg:https://lavenderhotels.co.uk/wp-content/uploads/2021/09/All-Inclusive-Party-Nights.jpg
END:VEVENT
END:VCALENDAR