BEGIN:VCALENDAR
VERSION:2.0
PRODID:-//Lavender Booking - ECPv6.3.3.1//NONSGML v1.0//EN
CALSCALE:GREGORIAN
METHOD:PUBLISH
X-WR-CALNAME:Lavender Booking
X-ORIGINAL-URL:https://lavenderhotels.co.uk
X-WR-CALDESC:Events for Lavender Booking
REFRESH-INTERVAL;VALUE=DURATION:PT1H
X-Robots-Tag:noindex
X-PUBLISHED-TTL:PT1H
BEGIN:VTIMEZONE
TZID:Europe/London
BEGIN:DAYLIGHT
TZOFFSETFROM:+0000
TZOFFSETTO:+0100
TZNAME:BST
DTSTART:20230326T010000
END:DAYLIGHT
BEGIN:STANDARD
TZOFFSETFROM:+0100
TZOFFSETTO:+0000
TZNAME:GMT
DTSTART:20231029T010000
END:STANDARD
END:VTIMEZONE
BEGIN:VEVENT
DTSTART;TZID=Europe/London:20231217T100000
DTEND;TZID=Europe/London:20231217T123000
DTSTAMP:20260420T042914
CREATED:20230602T121333Z
LAST-MODIFIED:20231027T114843Z
UID:10000-1702807200-1702816200@lavenderhotels.co.uk
SUMMARY:Sunday Brunch with Santa
DESCRIPTION:Bring the family to a meet Santa\, have an amazing Festive Sunday Brunch with children’s entertainer\, xmas craft activity tables distributed around the room. \nThen wait for the delight when Santa calls you through to his grotto to wish you and the kids a very happy Christmas. \nFull English and Continental Breakfast served \nArrive 10am\, Brunch served from 10:30am\, Santa visits from 11.15am \n 
URL:https://lavenderhotels.co.uk/seasonal-event/sunday-brunch-with-santa-2/
LOCATION:Stables Country Club\, Stables Country Club \, Walshaw Rd\,\, Bury\, Greater Manchester\, BL8 1PU\, United Kingdom
CATEGORIES:Christmas & New Year,Sunday Brunch
ATTACH;FMTTYPE=image/jpeg:https://lavenderhotels.co.uk/wp-content/uploads/2023/04/SOLD-OUT.jpg
END:VEVENT
BEGIN:VEVENT
DTSTART;TZID=Europe/London:20231210T100000
DTEND;TZID=Europe/London:20231210T123000
DTSTAMP:20260420T042914
CREATED:20230602T114748Z
LAST-MODIFIED:20231206T135913Z
UID:9986-1702202400-1702211400@lavenderhotels.co.uk
SUMMARY:Sunday Brunch with Santa
DESCRIPTION:Bring the family to a meet Santa\, have an amazing Festive Sunday Brunch with children’s entertainer\, xmas craft activity tables distributed around the room. \nThen wait for the delight when Santa calls you through to his grotto to wish you and the kids a very happy Christmas. \nFull English and Continental Breakfast served \nArrive 10am\, Brunch served from 10:30am\, Santa visits from 11.15am
URL:https://lavenderhotels.co.uk/seasonal-event/sunday-brunch-with-santa/
LOCATION:Stables Country Club\, Stables Country Club \, Walshaw Rd\,\, Bury\, Greater Manchester\, BL8 1PU\, United Kingdom
CATEGORIES:Christmas & New Year,Sunday Brunch
ATTACH;FMTTYPE=image/jpeg:https://lavenderhotels.co.uk/wp-content/uploads/2023/04/SOLD-OUT.jpg
END:VEVENT
END:VCALENDAR