BEGIN:VCALENDAR
VERSION:2.0
PRODID:-//Lavender Booking - ECPv6.3.3.1//NONSGML v1.0//EN
CALSCALE:GREGORIAN
METHOD:PUBLISH
X-ORIGINAL-URL:https://lavenderhotels.co.uk
X-WR-CALDESC:Events for Lavender Booking
REFRESH-INTERVAL;VALUE=DURATION:PT1H
X-Robots-Tag:noindex
X-PUBLISHED-TTL:PT1H
BEGIN:VTIMEZONE
TZID:Europe/London
BEGIN:DAYLIGHT
TZOFFSETFROM:+0000
TZOFFSETTO:+0100
TZNAME:BST
DTSTART:20230326T010000
END:DAYLIGHT
BEGIN:STANDARD
TZOFFSETFROM:+0100
TZOFFSETTO:+0000
TZNAME:GMT
DTSTART:20231029T010000
END:STANDARD
END:VTIMEZONE
BEGIN:VEVENT
DTSTART;TZID=Europe/London:20231216T190000
DTEND;TZID=Europe/London:20231217T010000
DTSTAMP:20260425T204657
CREATED:20230607T120353Z
LAST-MODIFIED:20231016T083352Z
UID:10163-1702753200-1702774800@lavenderhotels.co.uk
SUMMARY:Blitzen's Bonkers Bingo Party Night
DESCRIPTION:Blitzen is bringing Bonkers Bingo to The Everglades! \nExpect an evening of great food\, music\, dancing\, banter and of course Bingo madness! \nIncludes 2 course meal \nArrive 7\, Dinner 7.45\, Dancing until 1am
URL:https://lavenderhotels.co.uk/seasonal-event/blitzens-bonkers-bingo-party-night-20/
LOCATION:Everglades Park Hotel\, Derby Road\, Widnes\, Lancashire\, WA8 3UJ\, United Kingdom
CATEGORIES:Bonkers Bingo,Christmas & New Year
ATTACH;FMTTYPE=image/jpeg:https://lavenderhotels.co.uk/wp-content/uploads/2023/04/SOLD-OUT.jpg
END:VEVENT
BEGIN:VEVENT
DTSTART;TZID=Europe/London:20231216T190000
DTEND;TZID=Europe/London:20231217T010000
DTSTAMP:20260425T204657
CREATED:20230605T093844Z
LAST-MODIFIED:20231205T100739Z
UID:10114-1702753200-1702774800@lavenderhotels.co.uk
SUMMARY:Blitzen's Bonkers Bingo Party Night
DESCRIPTION:Blitzen is bringing Bonkers Bingo to The Oaks! \nExpect an evening of great food\, music\, dancing\, banter and of course Bingo madness! \nIncludes 2 course meal \nArrive 7\, Dinner 7.45\, Dancing until 1am
URL:https://lavenderhotels.co.uk/seasonal-event/blitzens-bonkers-bingo-party-night-17/
LOCATION:The Oaks Hotel\, The Oaks Hotel\, Colne Road\,\, Burnley\, Lancashire\, BB10 2LF\, United Kingdom
CATEGORIES:Bonkers Bingo,Christmas & New Year,Party Nights
ATTACH;FMTTYPE=image/jpeg:https://lavenderhotels.co.uk/wp-content/uploads/2023/04/SOLD-OUT.jpg
END:VEVENT
BEGIN:VEVENT
DTSTART;TZID=Europe/London:20231216T190000
DTEND;TZID=Europe/London:20231217T010000
DTSTAMP:20260425T204657
CREATED:20230602T120630Z
LAST-MODIFIED:20231022T103333Z
UID:9997-1702753200-1702774800@lavenderhotels.co.uk
SUMMARY:Blitzen's Bonkers Bingo Party Night
DESCRIPTION:Blitzen is bringing Bonkers Bingo to The Stables! \nExpect an evening of great food\, music\, dancing\, banter and of course Bingo madness! \nIncludes 2 course meal \nArrive 7\, Dinner 7.45\, Dancing until 1am \n 
URL:https://lavenderhotels.co.uk/seasonal-event/blitzens-bonkers-bingo-party-night-13/
LOCATION:Stables Country Club\, Stables Country Club \, Walshaw Rd\,\, Bury\, Greater Manchester\, BL8 1PU\, United Kingdom
CATEGORIES:Bonkers Bingo,Christmas & New Year,Party Nights
ATTACH;FMTTYPE=image/jpeg:https://lavenderhotels.co.uk/wp-content/uploads/2023/04/SOLD-OUT.jpg
END:VEVENT
BEGIN:VEVENT
DTSTART;TZID=Europe/London:20231209T190000
DTEND;TZID=Europe/London:20231210T010000
DTSTAMP:20260425T204657
CREATED:20230607T113710Z
LAST-MODIFIED:20231114T223920Z
UID:10146-1702148400-1702170000@lavenderhotels.co.uk
SUMMARY:Blitzen's Bonkers Bingo Party Night
DESCRIPTION:Blitzen is bringing Bonkers Bingo to The Everglades! \nExpect an evening of great food\, music\, dancing\, banter and of course Bingo! \n2 course meal included \nArrive 7\, Dinner 7.45\, Dancing until 1am
URL:https://lavenderhotels.co.uk/seasonal-event/blitzens-bonkers-bingo-party-night-19/
LOCATION:Everglades Park Hotel\, Derby Road\, Widnes\, Lancashire\, WA8 3UJ\, United Kingdom
CATEGORIES:Bonkers Bingo,Christmas & New Year
ATTACH;FMTTYPE=image/jpeg:https://lavenderhotels.co.uk/wp-content/uploads/2023/04/SOLD-OUT.jpg
END:VEVENT
BEGIN:VEVENT
DTSTART;TZID=Europe/London:20231209T190000
DTEND;TZID=Europe/London:20231210T010000
DTSTAMP:20260425T204657
CREATED:20230605T083408Z
LAST-MODIFIED:20231027T100905Z
UID:10095-1702148400-1702170000@lavenderhotels.co.uk
SUMMARY:Blitzen's Bonkers Bingo Party Night
DESCRIPTION:Blitzen is bringing Bonkers Bingo to The Oaks! \nExpect an evening of great food\, music\, dancing\, banter and of course Bingo madness! \nIncludes 2 course meal \nArrive 7\, Dinner 7.45\, Dancing until 1am
URL:https://lavenderhotels.co.uk/seasonal-event/blitzens-bonkers-bingo-party-night-16/
LOCATION:The Oaks Hotel\, The Oaks Hotel\, Colne Road\,\, Burnley\, Lancashire\, BB10 2LF\, United Kingdom
CATEGORIES:Bonkers Bingo,Christmas & New Year,Party Nights
ATTACH;FMTTYPE=image/jpeg:https://lavenderhotels.co.uk/wp-content/uploads/2023/06/LAST-FEW.jpg
END:VEVENT
BEGIN:VEVENT
DTSTART;TZID=Europe/London:20231208T190000
DTEND;TZID=Europe/London:20231209T010000
DTSTAMP:20260425T204657
CREATED:20230704T092549Z
LAST-MODIFIED:20230704T092549Z
UID:10270-1702062000-1702083600@lavenderhotels.co.uk
SUMMARY:Blitzen's Bonkers Bingo Party Night
DESCRIPTION:Blitzen is bringing Bonkers Bingo to The Everglades! \nExpect an evening of great food\, music\, dancing\, banter and of course Bingo madness! \nIncludes 2 course meal \nArrive 7\, Dinner 7.45\, Dancing until 1am
URL:https://lavenderhotels.co.uk/seasonal-event/blitzens-bonkers-bingo-party-night-21/
LOCATION:Everglades Park Hotel\, Derby Road\, Widnes\, Lancashire\, WA8 3UJ\, United Kingdom
CATEGORIES:Bonkers Bingo,Christmas & New Year
ATTACH;FMTTYPE=image/png:https://lavenderhotels.co.uk/wp-content/uploads/2022/07/Bonkers-Bingo-Party-Night.png
END:VEVENT
BEGIN:VEVENT
DTSTART;TZID=Europe/London:20231208T190000
DTEND;TZID=Europe/London:20231209T010000
DTSTAMP:20260425T204657
CREATED:20230602T113158Z
LAST-MODIFIED:20231101T140403Z
UID:9980-1702062000-1702083600@lavenderhotels.co.uk
SUMMARY:Blitzen's Bonkers Bingo Party Night
DESCRIPTION:Blitzen is bringing Bonkers Bingo to The Stables! \nExpect an evening of great food\, music\, dancing\, banter and of course Bingo\, madness! \nIncludes 2 course meal \nArrive 7\, Dinner 7.45\, Dancing until 1am
URL:https://lavenderhotels.co.uk/seasonal-event/blitzens-bonkers-bingo-party-night-12/
LOCATION:Stables Country Club\, Stables Country Club \, Walshaw Rd\,\, Bury\, Greater Manchester\, BL8 1PU\, United Kingdom
CATEGORIES:Bonkers Bingo,Christmas & New Year,Party Nights
ATTACH;FMTTYPE=image/jpeg:https://lavenderhotels.co.uk/wp-content/uploads/2023/04/SOLD-OUT.jpg
END:VEVENT
BEGIN:VEVENT
DTSTART;TZID=Europe/London:20231202T190000
DTEND;TZID=Europe/London:20231203T010000
DTSTAMP:20260425T204657
CREATED:20230602T133716Z
LAST-MODIFIED:20230905T133209Z
UID:10028-1701543600-1701565200@lavenderhotels.co.uk
SUMMARY:Blitzen's Bonkers Bingo Party Night
DESCRIPTION:Blitzen is bringing Bonkers Bingo to The Higher Trapp! \nExpect an evening of great food\, music\, dancing\, banter and of course Bingo madness! \nIncludes 2 course meal \nArrive 7\, Dinner 7.45\, Dancing until 1am
URL:https://lavenderhotels.co.uk/seasonal-event/blitzens-bonkers-bingo-party-night-14/
LOCATION:Higher Trapp House\, Trapp Lane\, Simonstone\, Lancashire\, BB12 7QW\, United Kingdom
CATEGORIES:Bonkers Bingo,Christmas & New Year
ATTACH;FMTTYPE=image/jpeg:https://lavenderhotels.co.uk/wp-content/uploads/2023/04/SOLD-OUT.jpg
END:VEVENT
BEGIN:VEVENT
DTSTART;TZID=Europe/London:20231202T190000
DTEND;TZID=Europe/London:20231203T010000
DTSTAMP:20260425T204657
CREATED:20230602T112701Z
LAST-MODIFIED:20231004T145757Z
UID:9977-1701543600-1701565200@lavenderhotels.co.uk
SUMMARY:Blitzen's Bonkers Bingo Party Night
DESCRIPTION:Blitzen is bringing Bonkers Bingo to The Stables! \n  \nExpect an evening of great food\, music\, dancing\, banter and of course \nBingo madness! Includes 2 course meal \n2 course meal \nArrive 7\, Dinner 7.45\, Dancing until 1am
URL:https://lavenderhotels.co.uk/seasonal-event/blitzens-bonkers-bingo-party-night-11/
LOCATION:Stables Country Club\, Stables Country Club \, Walshaw Rd\,\, Bury\, Greater Manchester\, BL8 1PU\, United Kingdom
CATEGORIES:Bonkers Bingo,Christmas & New Year,Party Nights
ATTACH;FMTTYPE=image/jpeg:https://lavenderhotels.co.uk/wp-content/uploads/2023/04/SOLD-OUT.jpg
END:VEVENT
BEGIN:VEVENT
DTSTART;TZID=Europe/London:20231201T190000
DTEND;TZID=Europe/London:20231202T010000
DTSTAMP:20260425T204657
CREATED:20230607T112211Z
LAST-MODIFIED:20230704T095939Z
UID:10133-1701457200-1701478800@lavenderhotels.co.uk
SUMMARY:Blitzen's Bonkers Bingo Party Night
DESCRIPTION:Blitzen is bringing Bonkers Bingo to The Everglades! \nExpect an evening of great food\, music\, dancing\, banter and of course Bingo madness! \nIncludes 2 course meal \nArrive 7\, Dinner 7.45\, Dancing until 1am
URL:https://lavenderhotels.co.uk/seasonal-event/blitzens-bonkers-bingo-party-night-18/
LOCATION:Everglades Park Hotel\, Derby Road\, Widnes\, Lancashire\, WA8 3UJ\, United Kingdom
CATEGORIES:Bonkers Bingo,Christmas & New Year,Party Nights
ATTACH;FMTTYPE=image/png:https://lavenderhotels.co.uk/wp-content/uploads/2022/07/Bonkers-Bingo-Party-Night.png
END:VEVENT
BEGIN:VEVENT
DTSTART;TZID=Europe/London:20231201T190000
DTEND;TZID=Europe/London:20231202T010000
DTSTAMP:20260425T204657
CREATED:20230605T081038Z
LAST-MODIFIED:20231109T142254Z
UID:10083-1701457200-1701478800@lavenderhotels.co.uk
SUMMARY:Blitzen's Bonkers Bingo Party Night
DESCRIPTION:Blitzen is bringing Bonkers Bingo to The Oaks! \nExpect an evening of great food\, music\, dancing\, banter and of course Bingo madness! \nIncludes 2 course meal \nArrive 7\, Dinner 7.45\, Dancing until 1am
URL:https://lavenderhotels.co.uk/seasonal-event/blitzens-bonkers-bingo-party-night-15/
LOCATION:The Oaks Hotel\, The Oaks Hotel\, Colne Road\,\, Burnley\, Lancashire\, BB10 2LF\, United Kingdom
CATEGORIES:Bonkers Bingo,Christmas & New Year,Party Nights
ATTACH;FMTTYPE=image/jpeg:https://lavenderhotels.co.uk/wp-content/uploads/2023/04/SOLD-OUT.jpg
END:VEVENT
BEGIN:VEVENT
DTSTART;TZID=Europe/London:20231125T190000
DTEND;TZID=Europe/London:20231126T010000
DTSTAMP:20260425T204657
CREATED:20230602T111951Z
LAST-MODIFIED:20231009T082544Z
UID:9971-1700938800-1700960400@lavenderhotels.co.uk
SUMMARY:Blitzen's Bonkers Bingo Party Night
DESCRIPTION:Blitzen is bringing Bonkers Bingo to The Stables! \n  \nExpect an evening of great food\, music\, dancing\, banter and of course Bingo \n2 course meal \nArrive 7\, Dinner 7.45\, Dancing until 1am
URL:https://lavenderhotels.co.uk/seasonal-event/blitzens-bonkers-bingo-party-night-10/
LOCATION:Stables Country Club\, Stables Country Club \, Walshaw Rd\,\, Bury\, Greater Manchester\, BL8 1PU\, United Kingdom
CATEGORIES:Bonkers Bingo,Christmas & New Year,Party Nights
ATTACH;FMTTYPE=image/png:https://lavenderhotels.co.uk/wp-content/uploads/2022/07/Bonkers-Bingo-Party-Night.png
END:VEVENT
END:VCALENDAR