BEGIN:VCALENDAR
VERSION:2.0
PRODID:-//Lavender Booking - ECPv6.3.3.1//NONSGML v1.0//EN
CALSCALE:GREGORIAN
METHOD:PUBLISH
X-WR-CALNAME:Lavender Booking
X-ORIGINAL-URL:https://lavenderhotels.co.uk
X-WR-CALDESC:Events for Lavender Booking
REFRESH-INTERVAL;VALUE=DURATION:PT1H
X-Robots-Tag:noindex
X-PUBLISHED-TTL:PT1H
BEGIN:VTIMEZONE
TZID:Europe/London
BEGIN:DAYLIGHT
TZOFFSETFROM:+0000
TZOFFSETTO:+0100
TZNAME:BST
DTSTART:20230326T010000
END:DAYLIGHT
BEGIN:STANDARD
TZOFFSETFROM:+0100
TZOFFSETTO:+0000
TZNAME:GMT
DTSTART:20231029T010000
END:STANDARD
BEGIN:DAYLIGHT
TZOFFSETFROM:+0000
TZOFFSETTO:+0100
TZNAME:BST
DTSTART:20240331T010000
END:DAYLIGHT
BEGIN:STANDARD
TZOFFSETFROM:+0100
TZOFFSETTO:+0000
TZNAME:GMT
DTSTART:20241027T010000
END:STANDARD
END:VTIMEZONE
BEGIN:VEVENT
DTSTART;TZID=Europe/London:20240914T190000
DTEND;TZID=Europe/London:20240915T003000
DTSTAMP:20260422T124634
CREATED:20240328T144155Z
LAST-MODIFIED:20240801T153534Z
UID:17500-1726340400-1726360200@lavenderhotels.co.uk
SUMMARY:Mexican Bonkers Bingo!!!
DESCRIPTION:Ariba\, Ariba\, Andale\, Andale!!! \nCome on the time is now to book for our Mexican themed bonkers bingo \nEnjoy a Mexican themed 1 course meal followed by a night of madness playing Bonkers Bingo and then dancing until late. \nSo dig out that Poncho and Sombrero and get yourself down to us a fun night. \n  \nArrive 7pm – Meal 7.45pm – Bingo and Dancing until 12.30am
URL:https://lavenderhotels.co.uk/seasonal-event/mexican-bonkers-bingo-2/
LOCATION:Stables Country Club\, Stables Country Club \, Walshaw Rd\,\, Bury\, Greater Manchester\, BL8 1PU\, United Kingdom
CATEGORIES:Bonkers Bingo,Party Night
ATTACH;FMTTYPE=image/jpeg:https://lavenderhotels.co.uk/wp-content/uploads/2023/05/Mexican-Bonkers-Bingo.jpg
END:VEVENT
BEGIN:VEVENT
DTSTART;TZID=Europe/London:20240907T190000
DTEND;TZID=Europe/London:20240908T010000
DTSTAMP:20260422T124634
CREATED:20240328T142436Z
LAST-MODIFIED:20240801T153329Z
UID:17493-1725735600-1725757200@lavenderhotels.co.uk
SUMMARY:Bonkers Bingo Party Night
DESCRIPTION:Bonkers Bingo is back at The Everglades \nExpect an evening of great food\, music\, dancing\, banter and of course Bingo madness! \nIncludes 2 course meal \nArrive 7\, Dinner 7.45\, Dancing until 1am \n  \nSample Menu: \nMain Course \nButterflied roasted chicken breast with sauteed potatoes and wilted spinach\, rich tomato salsa and guacamole \nRoasted vegetable galette\, warm broccoli and French bean salad\, apple cider chutney (v\,ve) \nBaked Cumberland sausage\, spring onion and pancetta mash\, garlic green beans\, red wine and shallot gravy \nSeafood Gnocchi with mussels\, prawns and squid in a creamy white wine and tarragon sauce \n… \n  \nTo Finish \n  \nStrawberry custard tart with Chantilly cream and strawberry puree \nLemon Posset with summer fruits and shortbread biscuit (v) \nChocolate fudge brownie with cookies and cream ice-cream
URL:https://lavenderhotels.co.uk/seasonal-event/bonkers-bingo-party-night-2/
LOCATION:Everglades Park Hotel\, Derby Road\, Widnes\, Lancashire\, WA8 3UJ\, United Kingdom
CATEGORIES:Bonkers Bingo,Party Night
ATTACH;FMTTYPE=image/png:https://lavenderhotels.co.uk/wp-content/uploads/2022/07/Frosties-All-Inclusive-80s-90s-Parties.png
END:VEVENT
BEGIN:VEVENT
DTSTART;TZID=Europe/London:20240706T190000
DTEND;TZID=Europe/London:20240707T010000
DTSTAMP:20260422T124634
CREATED:20240328T135750Z
LAST-MODIFIED:20240614T082013Z
UID:17490-1720292400-1720314000@lavenderhotels.co.uk
SUMMARY:Bonkers Bingo Party Night
DESCRIPTION:Bonkers Bingo is back at The Everglades \nExpect an evening of great food\, music\, dancing\, banter and of course Bingo madness! \nIncludes 2 course meal \nArrive 7\, Dinner 7.45\, Dancing until 1am \n  \nSample Menu: \nMain Course \nButterflied roasted chicken breast with sauteed potatoes and wilted spinach\, rich tomato salsa and guacamole \nRoasted vegetable galette\, warm broccoli and French bean salad\, apple cider chutney (v\,ve) \nBaked Cumberland sausage\, spring onion and pancetta mash\, garlic green beans\, red wine and shallot gravy \nSeafood Gnocchi with mussels\, prawns and squid in a creamy white wine and tarragon sauce \n… \n  \nTo Finish \n  \nStrawberry custard tart with Chantilly cream and strawberry puree \nLemon Posset with summer fruits and shortbread biscuit (v) \nChocolate fudge brownie with cookies and cream ice-cream
URL:https://lavenderhotels.co.uk/seasonal-event/bonkers-bingo-party-night/
LOCATION:Everglades Park Hotel\, Derby Road\, Widnes\, Lancashire\, WA8 3UJ\, United Kingdom
CATEGORIES:Bonkers Bingo,Party Night
ATTACH;FMTTYPE=image/png:https://lavenderhotels.co.uk/wp-content/uploads/2022/07/Frosties-All-Inclusive-80s-90s-Parties.png
END:VEVENT
BEGIN:VEVENT
DTSTART;TZID=Europe/London:20231111T190000
DTEND;TZID=Europe/London:20231112T003000
DTSTAMP:20260422T124634
CREATED:20230504T155314Z
LAST-MODIFIED:20231010T044906Z
UID:9848-1699729200-1699749000@lavenderhotels.co.uk
SUMMARY:Bonkers Bingo
DESCRIPTION:Bonkers Bingo is back! \nExpect an evening of great food\, music\, dancing\, banter and of course Bingo madness! \nIncludes a 1 course meal \nArrive 7 – Dinner 7.45 – Dancing until 12.30am
URL:https://lavenderhotels.co.uk/seasonal-event/bonkers-bingo-6/
LOCATION:The Oaks Hotel\, The Oaks Hotel\, Colne Road\,\, Burnley\, Lancashire\, BB10 2LF\, United Kingdom
CATEGORIES:Bonkers Bingo
ATTACH;FMTTYPE=image/jpeg:https://lavenderhotels.co.uk/wp-content/uploads/2023/05/Bonkers-Bingo-2023.jpeg
END:VEVENT
BEGIN:VEVENT
DTSTART;TZID=Europe/London:20230923T190000
DTEND;TZID=Europe/London:20230924T003000
DTSTAMP:20260422T124634
CREATED:20230518T112855Z
LAST-MODIFIED:20230906T081654Z
UID:9912-1695495600-1695515400@lavenderhotels.co.uk
SUMMARY:Bonkers Bingo
DESCRIPTION:Bonkers Bingo is back! \nExpect an evening of great food\, music\, dancing\, banter and of course Bingo madness! \nIncludes a 1 course meal \nArrive 7 – Dinner 7.45 – Dancing until 12.30am
URL:https://lavenderhotels.co.uk/seasonal-event/bonkers-bingo-4/
LOCATION:Stables Country Club\, Stables Country Club \, Walshaw Rd\,\, Bury\, Greater Manchester\, BL8 1PU\, United Kingdom
CATEGORIES:Bonkers Bingo
ATTACH;FMTTYPE=image/jpeg:https://lavenderhotels.co.uk/wp-content/uploads/2023/05/Bonkers-Bingo-2023.jpeg
END:VEVENT
BEGIN:VEVENT
DTSTART;TZID=Europe/London:20230811T190000
DTEND;TZID=Europe/London:20230812T003000
DTSTAMP:20260422T124634
CREATED:20230428T135331Z
LAST-MODIFIED:20230804T210734Z
UID:9796-1691780400-1691800200@lavenderhotels.co.uk
SUMMARY:Bonkers Bingo!!
DESCRIPTION:Bonkers Bingo is back! \nExpect an evening of great food\, music\, dancing\, banter and of course Bingo madness! \nIncludes a 1 course meal \nArrive 7pm – Dinner 7.45pm – Dancing until 12.30am
URL:https://lavenderhotels.co.uk/seasonal-event/bonkers-bingo-3/
LOCATION:Everglades Park Hotel\, Derby Road\, Widnes\, Lancashire\, WA8 3UJ\, United Kingdom
CATEGORIES:Bonkers Bingo
ATTACH;FMTTYPE=image/jpeg:https://lavenderhotels.co.uk/wp-content/uploads/2023/05/Bonkers-Bingo-2023.jpeg
END:VEVENT
BEGIN:VEVENT
DTSTART;TZID=Europe/London:20230728T190000
DTEND;TZID=Europe/London:20230729T003000
DTSTAMP:20260422T124634
CREATED:20230505T043957Z
LAST-MODIFIED:20230720T205244Z
UID:9854-1690570800-1690590600@lavenderhotels.co.uk
SUMMARY:Mexican Bonkers Bingo!!!
DESCRIPTION:Ariba\, Ariba\, Andale\, Andale!!! \nCome on the time is now to book for our Mexican themed bonkers bingo \nEnjoy a Mexican themed 1 course meal followed by a night of madness playing Bonkers Bingo and then dancing until late. \nSo dig out that Poncho and Sombrero and get yourself down to us a fun night. \nWelcome Magrarita Cocktail for all ticket holders. \nArrive 7pm – Meal 7.45pm – Bingo and Dancing until 12.30am
URL:https://lavenderhotels.co.uk/seasonal-event/mexican-bonkers-bingo/
LOCATION:Stables Country Club\, Stables Country Club \, Walshaw Rd\,\, Bury\, Greater Manchester\, BL8 1PU\, United Kingdom
CATEGORIES:Bonkers Bingo
ATTACH;FMTTYPE=image/jpeg:https://lavenderhotels.co.uk/wp-content/uploads/2023/05/Mexican-Bonkers-Bingo.jpg
END:VEVENT
END:VCALENDAR